BEGIN:VCALENDAR
VERSION:2.0
PRODID:-//YAM - ECPv6.15.6//NONSGML v1.0//EN
CALSCALE:GREGORIAN
METHOD:PUBLISH
X-WR-CALNAME:YAM
X-ORIGINAL-URL:https://yamproperties.com
X-WR-CALDESC:Events for YAM
REFRESH-INTERVAL;VALUE=DURATION:PT1H
X-Robots-Tag:noindex
X-PUBLISHED-TTL:PT1H
BEGIN:VTIMEZONE
TZID:America/Phoenix
BEGIN:STANDARD
TZOFFSETFROM:-0700
TZOFFSETTO:-0700
TZNAME:MST
DTSTART:20230101T000000
END:STANDARD
END:VTIMEZONE
BEGIN:VEVENT
DTSTART;TZID=America/Phoenix:20241125T110000
DTEND;TZID=America/Phoenix:20241125T220000
DTSTAMP:20260419T144302
CREATED:20240620T224723Z
LAST-MODIFIED:20240624T215641Z
UID:10001883-1732532400-1732572000@yamproperties.com
SUMMARY:No Corkage Fee Mondays at Trevor's Liquor
DESCRIPTION:
URL:https://yamproperties.com/event/no-corkage-fee-mondays-at-trevors-liquor/2024-11-25/
LOCATION:Scottsdale 101\, 7000 E Mayo Blvd\, Phoenix\, AZ\, 85054\, United States
CATEGORIES:Happy Hour
ATTACH;FMTTYPE=image/png:https://yamproperties.com/wp-content/uploads/2024/06/1-1.png
END:VEVENT
BEGIN:VEVENT
DTSTART;TZID=America/Phoenix:20241118T110000
DTEND;TZID=America/Phoenix:20241118T220000
DTSTAMP:20260419T144302
CREATED:20240620T224723Z
LAST-MODIFIED:20240624T215641Z
UID:10001882-1731927600-1731967200@yamproperties.com
SUMMARY:No Corkage Fee Mondays at Trevor's Liquor
DESCRIPTION:
URL:https://yamproperties.com/event/no-corkage-fee-mondays-at-trevors-liquor/2024-11-18/
LOCATION:Scottsdale 101\, 7000 E Mayo Blvd\, Phoenix\, AZ\, 85054\, United States
CATEGORIES:Happy Hour
ATTACH;FMTTYPE=image/png:https://yamproperties.com/wp-content/uploads/2024/06/1-1.png
END:VEVENT
BEGIN:VEVENT
DTSTART;TZID=America/Phoenix:20241111T110000
DTEND;TZID=America/Phoenix:20241111T220000
DTSTAMP:20260419T144302
CREATED:20240620T224723Z
LAST-MODIFIED:20240624T215641Z
UID:10001881-1731322800-1731362400@yamproperties.com
SUMMARY:No Corkage Fee Mondays at Trevor's Liquor
DESCRIPTION:
URL:https://yamproperties.com/event/no-corkage-fee-mondays-at-trevors-liquor/2024-11-11/
LOCATION:Scottsdale 101\, 7000 E Mayo Blvd\, Phoenix\, AZ\, 85054\, United States
CATEGORIES:Happy Hour
ATTACH;FMTTYPE=image/png:https://yamproperties.com/wp-content/uploads/2024/06/1-1.png
END:VEVENT
BEGIN:VEVENT
DTSTART;TZID=America/Phoenix:20241104T110000
DTEND;TZID=America/Phoenix:20241104T220000
DTSTAMP:20260419T144302
CREATED:20240620T224723Z
LAST-MODIFIED:20240624T215641Z
UID:10001880-1730718000-1730757600@yamproperties.com
SUMMARY:No Corkage Fee Mondays at Trevor's Liquor
DESCRIPTION:
URL:https://yamproperties.com/event/no-corkage-fee-mondays-at-trevors-liquor/2024-11-04/
LOCATION:Scottsdale 101\, 7000 E Mayo Blvd\, Phoenix\, AZ\, 85054\, United States
CATEGORIES:Happy Hour
ATTACH;FMTTYPE=image/png:https://yamproperties.com/wp-content/uploads/2024/06/1-1.png
END:VEVENT
BEGIN:VEVENT
DTSTART;TZID=America/Phoenix:20241028T110000
DTEND;TZID=America/Phoenix:20241028T220000
DTSTAMP:20260419T144302
CREATED:20240620T224723Z
LAST-MODIFIED:20240624T215641Z
UID:10001879-1730113200-1730152800@yamproperties.com
SUMMARY:No Corkage Fee Mondays at Trevor's Liquor
DESCRIPTION:
URL:https://yamproperties.com/event/no-corkage-fee-mondays-at-trevors-liquor/2024-10-28/
LOCATION:Scottsdale 101\, 7000 E Mayo Blvd\, Phoenix\, AZ\, 85054\, United States
CATEGORIES:Happy Hour
ATTACH;FMTTYPE=image/png:https://yamproperties.com/wp-content/uploads/2024/06/1-1.png
END:VEVENT
BEGIN:VEVENT
DTSTART;TZID=America/Phoenix:20241021T110000
DTEND;TZID=America/Phoenix:20241021T220000
DTSTAMP:20260419T144302
CREATED:20240620T224723Z
LAST-MODIFIED:20240624T215641Z
UID:10001878-1729508400-1729548000@yamproperties.com
SUMMARY:No Corkage Fee Mondays at Trevor's Liquor
DESCRIPTION:
URL:https://yamproperties.com/event/no-corkage-fee-mondays-at-trevors-liquor/2024-10-21/
LOCATION:Scottsdale 101\, 7000 E Mayo Blvd\, Phoenix\, AZ\, 85054\, United States
CATEGORIES:Happy Hour
ATTACH;FMTTYPE=image/png:https://yamproperties.com/wp-content/uploads/2024/06/1-1.png
END:VEVENT
BEGIN:VEVENT
DTSTART;TZID=America/Phoenix:20241014T110000
DTEND;TZID=America/Phoenix:20241014T220000
DTSTAMP:20260419T144302
CREATED:20240620T224723Z
LAST-MODIFIED:20240624T215641Z
UID:10001877-1728903600-1728943200@yamproperties.com
SUMMARY:No Corkage Fee Mondays at Trevor's Liquor
DESCRIPTION:
URL:https://yamproperties.com/event/no-corkage-fee-mondays-at-trevors-liquor/2024-10-14/
LOCATION:Scottsdale 101\, 7000 E Mayo Blvd\, Phoenix\, AZ\, 85054\, United States
CATEGORIES:Happy Hour
ATTACH;FMTTYPE=image/png:https://yamproperties.com/wp-content/uploads/2024/06/1-1.png
END:VEVENT
BEGIN:VEVENT
DTSTART;TZID=America/Phoenix:20241007T110000
DTEND;TZID=America/Phoenix:20241007T220000
DTSTAMP:20260419T144302
CREATED:20240620T224723Z
LAST-MODIFIED:20240624T215641Z
UID:10001876-1728298800-1728338400@yamproperties.com
SUMMARY:No Corkage Fee Mondays at Trevor's Liquor
DESCRIPTION:
URL:https://yamproperties.com/event/no-corkage-fee-mondays-at-trevors-liquor/2024-10-07/
LOCATION:Scottsdale 101\, 7000 E Mayo Blvd\, Phoenix\, AZ\, 85054\, United States
CATEGORIES:Happy Hour
ATTACH;FMTTYPE=image/png:https://yamproperties.com/wp-content/uploads/2024/06/1-1.png
END:VEVENT
BEGIN:VEVENT
DTSTART;TZID=America/Phoenix:20240930T110000
DTEND;TZID=America/Phoenix:20240930T220000
DTSTAMP:20260419T144302
CREATED:20240620T224723Z
LAST-MODIFIED:20240624T215641Z
UID:10001875-1727694000-1727733600@yamproperties.com
SUMMARY:No Corkage Fee Mondays at Trevor's Liquor
DESCRIPTION:
URL:https://yamproperties.com/event/no-corkage-fee-mondays-at-trevors-liquor/2024-09-30/
LOCATION:Scottsdale 101\, 7000 E Mayo Blvd\, Phoenix\, AZ\, 85054\, United States
CATEGORIES:Happy Hour
ATTACH;FMTTYPE=image/png:https://yamproperties.com/wp-content/uploads/2024/06/1-1.png
END:VEVENT
BEGIN:VEVENT
DTSTART;TZID=America/Phoenix:20240923T110000
DTEND;TZID=America/Phoenix:20240923T220000
DTSTAMP:20260419T144302
CREATED:20240620T224723Z
LAST-MODIFIED:20240624T215641Z
UID:10001874-1727089200-1727128800@yamproperties.com
SUMMARY:No Corkage Fee Mondays at Trevor's Liquor
DESCRIPTION:
URL:https://yamproperties.com/event/no-corkage-fee-mondays-at-trevors-liquor/2024-09-23/
LOCATION:Scottsdale 101\, 7000 E Mayo Blvd\, Phoenix\, AZ\, 85054\, United States
CATEGORIES:Happy Hour
ATTACH;FMTTYPE=image/png:https://yamproperties.com/wp-content/uploads/2024/06/1-1.png
END:VEVENT
BEGIN:VEVENT
DTSTART;TZID=America/Phoenix:20240916T183000
DTEND;TZID=America/Phoenix:20240916T203000
DTSTAMP:20260419T144302
CREATED:20240826T162624Z
LAST-MODIFIED:20240826T162624Z
UID:10002497-1726511400-1726518600@yamproperties.com
SUMMARY:Tequila and Cigar Event at Trevor's Liquor
DESCRIPTION:
URL:https://yamproperties.com/event/tequila-and-cigar-event-at-trevors-liquor/
LOCATION:Scottsdale 101\, 7000 E Mayo Blvd\, Phoenix\, AZ\, 85054\, United States
CATEGORIES:Happy Hour
ATTACH;FMTTYPE=image/png:https://yamproperties.com/wp-content/uploads/2024/06/1-1.png
END:VEVENT
BEGIN:VEVENT
DTSTART;TZID=America/Phoenix:20240916T110000
DTEND;TZID=America/Phoenix:20240916T220000
DTSTAMP:20260419T144302
CREATED:20240620T224723Z
LAST-MODIFIED:20240624T215641Z
UID:10001873-1726484400-1726524000@yamproperties.com
SUMMARY:No Corkage Fee Mondays at Trevor's Liquor
DESCRIPTION:
URL:https://yamproperties.com/event/no-corkage-fee-mondays-at-trevors-liquor/2024-09-16/
LOCATION:Scottsdale 101\, 7000 E Mayo Blvd\, Phoenix\, AZ\, 85054\, United States
CATEGORIES:Happy Hour
ATTACH;FMTTYPE=image/png:https://yamproperties.com/wp-content/uploads/2024/06/1-1.png
END:VEVENT
BEGIN:VEVENT
DTSTART;TZID=America/Phoenix:20240909T110000
DTEND;TZID=America/Phoenix:20240909T220000
DTSTAMP:20260419T144302
CREATED:20240620T224723Z
LAST-MODIFIED:20240624T215641Z
UID:10001872-1725879600-1725919200@yamproperties.com
SUMMARY:No Corkage Fee Mondays at Trevor's Liquor
DESCRIPTION:
URL:https://yamproperties.com/event/no-corkage-fee-mondays-at-trevors-liquor/2024-09-09/
LOCATION:Scottsdale 101\, 7000 E Mayo Blvd\, Phoenix\, AZ\, 85054\, United States
CATEGORIES:Happy Hour
ATTACH;FMTTYPE=image/png:https://yamproperties.com/wp-content/uploads/2024/06/1-1.png
END:VEVENT
BEGIN:VEVENT
DTSTART;TZID=America/Phoenix:20240902T110000
DTEND;TZID=America/Phoenix:20240902T220000
DTSTAMP:20260419T144302
CREATED:20240620T224723Z
LAST-MODIFIED:20240624T215641Z
UID:10001871-1725274800-1725314400@yamproperties.com
SUMMARY:No Corkage Fee Mondays at Trevor's Liquor
DESCRIPTION:
URL:https://yamproperties.com/event/no-corkage-fee-mondays-at-trevors-liquor/2024-09-02/
LOCATION:Scottsdale 101\, 7000 E Mayo Blvd\, Phoenix\, AZ\, 85054\, United States
CATEGORIES:Happy Hour
ATTACH;FMTTYPE=image/png:https://yamproperties.com/wp-content/uploads/2024/06/1-1.png
END:VEVENT
BEGIN:VEVENT
DTSTART;TZID=America/Phoenix:20240826T110000
DTEND;TZID=America/Phoenix:20240826T220000
DTSTAMP:20260419T144302
CREATED:20240620T224723Z
LAST-MODIFIED:20240624T215641Z
UID:10001870-1724670000-1724709600@yamproperties.com
SUMMARY:No Corkage Fee Mondays at Trevor's Liquor
DESCRIPTION:
URL:https://yamproperties.com/event/no-corkage-fee-mondays-at-trevors-liquor/2024-08-26/
LOCATION:Scottsdale 101\, 7000 E Mayo Blvd\, Phoenix\, AZ\, 85054\, United States
CATEGORIES:Happy Hour
ATTACH;FMTTYPE=image/png:https://yamproperties.com/wp-content/uploads/2024/06/1-1.png
END:VEVENT
BEGIN:VEVENT
DTSTART;TZID=America/Phoenix:20240819T110000
DTEND;TZID=America/Phoenix:20240819T220000
DTSTAMP:20260419T144302
CREATED:20240620T224723Z
LAST-MODIFIED:20240624T215641Z
UID:10001869-1724065200-1724104800@yamproperties.com
SUMMARY:No Corkage Fee Mondays at Trevor's Liquor
DESCRIPTION:
URL:https://yamproperties.com/event/no-corkage-fee-mondays-at-trevors-liquor/2024-08-19/
LOCATION:Scottsdale 101\, 7000 E Mayo Blvd\, Phoenix\, AZ\, 85054\, United States
CATEGORIES:Happy Hour
ATTACH;FMTTYPE=image/png:https://yamproperties.com/wp-content/uploads/2024/06/1-1.png
END:VEVENT
BEGIN:VEVENT
DTSTART;TZID=America/Phoenix:20240812T110000
DTEND;TZID=America/Phoenix:20240812T220000
DTSTAMP:20260419T144302
CREATED:20240620T224723Z
LAST-MODIFIED:20240624T215641Z
UID:10001868-1723460400-1723500000@yamproperties.com
SUMMARY:No Corkage Fee Mondays at Trevor's Liquor
DESCRIPTION:
URL:https://yamproperties.com/event/no-corkage-fee-mondays-at-trevors-liquor/2024-08-12/
LOCATION:Scottsdale 101\, 7000 E Mayo Blvd\, Phoenix\, AZ\, 85054\, United States
CATEGORIES:Happy Hour
ATTACH;FMTTYPE=image/png:https://yamproperties.com/wp-content/uploads/2024/06/1-1.png
END:VEVENT
BEGIN:VEVENT
DTSTART;TZID=America/Phoenix:20240805T110000
DTEND;TZID=America/Phoenix:20240805T220000
DTSTAMP:20260419T144302
CREATED:20240620T224723Z
LAST-MODIFIED:20240624T215641Z
UID:10001867-1722855600-1722895200@yamproperties.com
SUMMARY:No Corkage Fee Mondays at Trevor's Liquor
DESCRIPTION:
URL:https://yamproperties.com/event/no-corkage-fee-mondays-at-trevors-liquor/2024-08-05/
LOCATION:Scottsdale 101\, 7000 E Mayo Blvd\, Phoenix\, AZ\, 85054\, United States
CATEGORIES:Happy Hour
ATTACH;FMTTYPE=image/png:https://yamproperties.com/wp-content/uploads/2024/06/1-1.png
END:VEVENT
BEGIN:VEVENT
DTSTART;TZID=America/Phoenix:20240729T110000
DTEND;TZID=America/Phoenix:20240729T220000
DTSTAMP:20260419T144302
CREATED:20240620T224723Z
LAST-MODIFIED:20240624T215641Z
UID:10001866-1722250800-1722290400@yamproperties.com
SUMMARY:No Corkage Fee Mondays at Trevor's Liquor
DESCRIPTION:
URL:https://yamproperties.com/event/no-corkage-fee-mondays-at-trevors-liquor/2024-07-29/
LOCATION:Scottsdale 101\, 7000 E Mayo Blvd\, Phoenix\, AZ\, 85054\, United States
CATEGORIES:Happy Hour
ATTACH;FMTTYPE=image/png:https://yamproperties.com/wp-content/uploads/2024/06/1-1.png
END:VEVENT
BEGIN:VEVENT
DTSTART;TZID=America/Phoenix:20240722T110000
DTEND;TZID=America/Phoenix:20240722T220000
DTSTAMP:20260419T144302
CREATED:20240620T224723Z
LAST-MODIFIED:20240624T215641Z
UID:10001865-1721646000-1721685600@yamproperties.com
SUMMARY:No Corkage Fee Mondays at Trevor's Liquor
DESCRIPTION:
URL:https://yamproperties.com/event/no-corkage-fee-mondays-at-trevors-liquor/2024-07-22/
LOCATION:Scottsdale 101\, 7000 E Mayo Blvd\, Phoenix\, AZ\, 85054\, United States
CATEGORIES:Happy Hour
ATTACH;FMTTYPE=image/png:https://yamproperties.com/wp-content/uploads/2024/06/1-1.png
END:VEVENT
BEGIN:VEVENT
DTSTART;TZID=America/Phoenix:20240715T110000
DTEND;TZID=America/Phoenix:20240715T220000
DTSTAMP:20260419T144302
CREATED:20240620T224723Z
LAST-MODIFIED:20240624T215641Z
UID:10001864-1721041200-1721080800@yamproperties.com
SUMMARY:No Corkage Fee Mondays at Trevor's Liquor
DESCRIPTION:
URL:https://yamproperties.com/event/no-corkage-fee-mondays-at-trevors-liquor/2024-07-15/
LOCATION:Scottsdale 101\, 7000 E Mayo Blvd\, Phoenix\, AZ\, 85054\, United States
CATEGORIES:Happy Hour
ATTACH;FMTTYPE=image/png:https://yamproperties.com/wp-content/uploads/2024/06/1-1.png
END:VEVENT
BEGIN:VEVENT
DTSTART;TZID=America/Phoenix:20240708T110000
DTEND;TZID=America/Phoenix:20240708T220000
DTSTAMP:20260419T144302
CREATED:20240620T224723Z
LAST-MODIFIED:20240624T215641Z
UID:10001863-1720436400-1720476000@yamproperties.com
SUMMARY:No Corkage Fee Mondays at Trevor's Liquor
DESCRIPTION:
URL:https://yamproperties.com/event/no-corkage-fee-mondays-at-trevors-liquor/2024-07-08/
LOCATION:Scottsdale 101\, 7000 E Mayo Blvd\, Phoenix\, AZ\, 85054\, United States
CATEGORIES:Happy Hour
ATTACH;FMTTYPE=image/png:https://yamproperties.com/wp-content/uploads/2024/06/1-1.png
END:VEVENT
BEGIN:VEVENT
DTSTART;TZID=America/Phoenix:20240701T110000
DTEND;TZID=America/Phoenix:20240701T220000
DTSTAMP:20260419T144302
CREATED:20240620T224723Z
LAST-MODIFIED:20240624T215641Z
UID:10001862-1719831600-1719871200@yamproperties.com
SUMMARY:No Corkage Fee Mondays at Trevor's Liquor
DESCRIPTION:
URL:https://yamproperties.com/event/no-corkage-fee-mondays-at-trevors-liquor/2024-07-01/
LOCATION:Scottsdale 101\, 7000 E Mayo Blvd\, Phoenix\, AZ\, 85054\, United States
CATEGORIES:Happy Hour
ATTACH;FMTTYPE=image/png:https://yamproperties.com/wp-content/uploads/2024/06/1-1.png
END:VEVENT
BEGIN:VEVENT
DTSTART;TZID=America/Phoenix:20240629T160000
DTEND;TZID=America/Phoenix:20240629T180000
DTSTAMP:20260419T144302
CREATED:20240624T215124Z
LAST-MODIFIED:20240624T215124Z
UID:10001861-1719676800-1719684000@yamproperties.com
SUMMARY:Ghost Tequila Tasting at Trevor's Liquor
DESCRIPTION:
URL:https://yamproperties.com/event/ghost-tequila-tasting-at-trevors-liquor/
LOCATION:Scottsdale 101\, 7000 E Mayo Blvd\, Phoenix\, AZ\, 85054\, United States
CATEGORIES:Happy Hour
ATTACH;FMTTYPE=image/png:https://yamproperties.com/wp-content/uploads/2024/06/1-1.png
END:VEVENT
BEGIN:VEVENT
DTSTART;TZID=America/Phoenix:20240629T140000
DTEND;TZID=America/Phoenix:20240629T160000
DTSTAMP:20260419T144302
CREATED:20240624T215008Z
LAST-MODIFIED:20240624T215008Z
UID:10001860-1719669600-1719676800@yamproperties.com
SUMMARY:On the Rocks Tasting at Trevor's Liquor
DESCRIPTION:
URL:https://yamproperties.com/event/on-the-rocks-tasting-at-trevors-liquor/
LOCATION:Scottsdale 101\, 7000 E Mayo Blvd\, Phoenix\, AZ\, 85054\, United States
CATEGORIES:Happy Hour
ATTACH;FMTTYPE=image/png:https://yamproperties.com/wp-content/uploads/2024/06/1-1.png
END:VEVENT
BEGIN:VEVENT
DTSTART;TZID=America/Phoenix:20240629T120000
DTEND;TZID=America/Phoenix:20240629T140000
DTSTAMP:20260419T144302
CREATED:20240624T214841Z
LAST-MODIFIED:20240624T214841Z
UID:10001859-1719662400-1719669600@yamproperties.com
SUMMARY:Sovereign Brands Tasting at Trevor's Liquor
DESCRIPTION:
URL:https://yamproperties.com/event/sovereign-brands-tasting-at-trevors-liquor/
LOCATION:Scottsdale 101\, 7000 E Mayo Blvd\, Phoenix\, AZ\, 85054\, United States
CATEGORIES:Happy Hour
ATTACH;FMTTYPE=image/png:https://yamproperties.com/wp-content/uploads/2024/06/1-1.png
END:VEVENT
BEGIN:VEVENT
DTSTART;TZID=America/Phoenix:20240628T180000
DTEND;TZID=America/Phoenix:20240628T200000
DTSTAMP:20260419T144302
CREATED:20240624T214549Z
LAST-MODIFIED:20240624T214549Z
UID:10001858-1719597600-1719604800@yamproperties.com
SUMMARY:Jelinek Brandy Tasting at Trevor's Liquor
DESCRIPTION:
URL:https://yamproperties.com/event/jelinek-brandy-tasting-at-trevors-liquor/
LOCATION:Scottsdale 101\, 7000 E Mayo Blvd\, Phoenix\, AZ\, 85054\, United States
CATEGORIES:Happy Hour
ATTACH;FMTTYPE=image/png:https://yamproperties.com/wp-content/uploads/2024/06/1-1.png
END:VEVENT
BEGIN:VEVENT
DTSTART;TZID=America/Phoenix:20240628T160000
DTEND;TZID=America/Phoenix:20240628T180000
DTSTAMP:20260419T144302
CREATED:20240624T214453Z
LAST-MODIFIED:20240624T214453Z
UID:10001857-1719590400-1719597600@yamproperties.com
SUMMARY:Long Drink Tasting at Trevor's Liquor
DESCRIPTION:
URL:https://yamproperties.com/event/long-drink-tasting-at-trevors-liquor/
LOCATION:Scottsdale 101\, 7000 E Mayo Blvd\, Phoenix\, AZ\, 85054\, United States
CATEGORIES:Happy Hour
ATTACH;FMTTYPE=image/png:https://yamproperties.com/wp-content/uploads/2024/06/1-1.png
END:VEVENT
BEGIN:VEVENT
DTSTART;TZID=America/Phoenix:20240627T160000
DTEND;TZID=America/Phoenix:20240627T180000
DTSTAMP:20260419T144302
CREATED:20240624T214301Z
LAST-MODIFIED:20240624T214301Z
UID:10001856-1719504000-1719511200@yamproperties.com
SUMMARY:JAJA Tequila Tasting at Trevor's Liquor
DESCRIPTION:
URL:https://yamproperties.com/event/jaja-tequila-tasting-at-trevors-liquor/
LOCATION:Scottsdale 101\, 7000 E Mayo Blvd\, Phoenix\, AZ\, 85054\, United States
CATEGORIES:Happy Hour
ATTACH;FMTTYPE=image/png:https://yamproperties.com/wp-content/uploads/2024/06/1-1.png
END:VEVENT
BEGIN:VEVENT
DTSTART;TZID=America/Phoenix:20240624T110000
DTEND;TZID=America/Phoenix:20240624T220000
DTSTAMP:20260419T144302
CREATED:20240620T224723Z
LAST-MODIFIED:20240624T215641Z
UID:10001843-1719226800-1719266400@yamproperties.com
SUMMARY:No Corkage Fee Mondays at Trevor's Liquor
DESCRIPTION:
URL:https://yamproperties.com/event/no-corkage-fee-mondays-at-trevors-liquor/2024-06-24/
LOCATION:Scottsdale 101\, 7000 E Mayo Blvd\, Phoenix\, AZ\, 85054\, United States
CATEGORIES:Happy Hour
ATTACH;FMTTYPE=image/png:https://yamproperties.com/wp-content/uploads/2024/06/1-1.png
END:VEVENT
END:VCALENDAR