BEGIN:VCALENDAR
VERSION:2.0
PRODID:-//YAM - ECPv6.15.6//NONSGML v1.0//EN
CALSCALE:GREGORIAN
METHOD:PUBLISH
X-WR-CALNAME:YAM
X-ORIGINAL-URL:https://yamproperties.com
X-WR-CALDESC:Events for YAM
REFRESH-INTERVAL;VALUE=DURATION:PT1H
X-Robots-Tag:noindex
X-PUBLISHED-TTL:PT1H
BEGIN:VTIMEZONE
TZID:America/Phoenix
BEGIN:STANDARD
TZOFFSETFROM:-0700
TZOFFSETTO:-0700
TZNAME:MST
DTSTART:20250101T000000
END:STANDARD
END:VTIMEZONE
BEGIN:VEVENT
DTSTART;TZID=America/Phoenix:20260423T180000
DTEND;TZID=America/Phoenix:20260423T200000
DTSTAMP:20260419T060226
CREATED:20240422T233442Z
LAST-MODIFIED:20240827T151935Z
UID:10000730-1776967200-1776974400@yamproperties.com
SUMMARY:Star Wars Unlimited Weekly Play at Meeples & Beyond
DESCRIPTION:
URL:https://yamproperties.com/event/star-wars-unlimited-weekly-play-at-meeples-beyond/2026-04-23/
LOCATION:The Shops at Norterra\, 2450 West Happy Valley Road\, Phoenix\, AZ\, 85285\, United States
CATEGORIES:Games
ATTACH;FMTTYPE=image/png:https://yamproperties.com/wp-content/uploads/2024/04/StarWARS.png
END:VEVENT
BEGIN:VEVENT
DTSTART;TZID=America/Phoenix:20260430T180000
DTEND;TZID=America/Phoenix:20260430T200000
DTSTAMP:20260419T060226
CREATED:20240422T233442Z
LAST-MODIFIED:20240827T151935Z
UID:10000731-1777572000-1777579200@yamproperties.com
SUMMARY:Star Wars Unlimited Weekly Play at Meeples & Beyond
DESCRIPTION:
URL:https://yamproperties.com/event/star-wars-unlimited-weekly-play-at-meeples-beyond/2026-04-30/
LOCATION:The Shops at Norterra\, 2450 West Happy Valley Road\, Phoenix\, AZ\, 85285\, United States
CATEGORIES:Games
ATTACH;FMTTYPE=image/png:https://yamproperties.com/wp-content/uploads/2024/04/StarWARS.png
END:VEVENT
BEGIN:VEVENT
DTSTART;TZID=America/Phoenix:20260507T180000
DTEND;TZID=America/Phoenix:20260507T200000
DTSTAMP:20260419T060226
CREATED:20240422T233442Z
LAST-MODIFIED:20240827T151935Z
UID:10000732-1778176800-1778184000@yamproperties.com
SUMMARY:Star Wars Unlimited Weekly Play at Meeples & Beyond
DESCRIPTION:
URL:https://yamproperties.com/event/star-wars-unlimited-weekly-play-at-meeples-beyond/2026-05-07/
LOCATION:The Shops at Norterra\, 2450 West Happy Valley Road\, Phoenix\, AZ\, 85285\, United States
CATEGORIES:Games
ATTACH;FMTTYPE=image/png:https://yamproperties.com/wp-content/uploads/2024/04/StarWARS.png
END:VEVENT
BEGIN:VEVENT
DTSTART;TZID=America/Phoenix:20260514T180000
DTEND;TZID=America/Phoenix:20260514T200000
DTSTAMP:20260419T060226
CREATED:20240422T233442Z
LAST-MODIFIED:20240827T151935Z
UID:10000733-1778781600-1778788800@yamproperties.com
SUMMARY:Star Wars Unlimited Weekly Play at Meeples & Beyond
DESCRIPTION:
URL:https://yamproperties.com/event/star-wars-unlimited-weekly-play-at-meeples-beyond/2026-05-14/
LOCATION:The Shops at Norterra\, 2450 West Happy Valley Road\, Phoenix\, AZ\, 85285\, United States
CATEGORIES:Games
ATTACH;FMTTYPE=image/png:https://yamproperties.com/wp-content/uploads/2024/04/StarWARS.png
END:VEVENT
BEGIN:VEVENT
DTSTART;TZID=America/Phoenix:20260521T180000
DTEND;TZID=America/Phoenix:20260521T200000
DTSTAMP:20260419T060226
CREATED:20240422T233442Z
LAST-MODIFIED:20240827T151935Z
UID:10000734-1779386400-1779393600@yamproperties.com
SUMMARY:Star Wars Unlimited Weekly Play at Meeples & Beyond
DESCRIPTION:
URL:https://yamproperties.com/event/star-wars-unlimited-weekly-play-at-meeples-beyond/2026-05-21/
LOCATION:The Shops at Norterra\, 2450 West Happy Valley Road\, Phoenix\, AZ\, 85285\, United States
CATEGORIES:Games
ATTACH;FMTTYPE=image/png:https://yamproperties.com/wp-content/uploads/2024/04/StarWARS.png
END:VEVENT
BEGIN:VEVENT
DTSTART;TZID=America/Phoenix:20260528T180000
DTEND;TZID=America/Phoenix:20260528T200000
DTSTAMP:20260419T060226
CREATED:20240422T233442Z
LAST-MODIFIED:20240827T151935Z
UID:10000735-1779991200-1779998400@yamproperties.com
SUMMARY:Star Wars Unlimited Weekly Play at Meeples & Beyond
DESCRIPTION:
URL:https://yamproperties.com/event/star-wars-unlimited-weekly-play-at-meeples-beyond/2026-05-28/
LOCATION:The Shops at Norterra\, 2450 West Happy Valley Road\, Phoenix\, AZ\, 85285\, United States
CATEGORIES:Games
ATTACH;FMTTYPE=image/png:https://yamproperties.com/wp-content/uploads/2024/04/StarWARS.png
END:VEVENT
BEGIN:VEVENT
DTSTART;TZID=America/Phoenix:20260604T180000
DTEND;TZID=America/Phoenix:20260604T200000
DTSTAMP:20260419T060226
CREATED:20240422T233442Z
LAST-MODIFIED:20240827T151935Z
UID:10000736-1780596000-1780603200@yamproperties.com
SUMMARY:Star Wars Unlimited Weekly Play at Meeples & Beyond
DESCRIPTION:
URL:https://yamproperties.com/event/star-wars-unlimited-weekly-play-at-meeples-beyond/2026-06-04/
LOCATION:The Shops at Norterra\, 2450 West Happy Valley Road\, Phoenix\, AZ\, 85285\, United States
CATEGORIES:Games
ATTACH;FMTTYPE=image/png:https://yamproperties.com/wp-content/uploads/2024/04/StarWARS.png
END:VEVENT
BEGIN:VEVENT
DTSTART;TZID=America/Phoenix:20260611T180000
DTEND;TZID=America/Phoenix:20260611T200000
DTSTAMP:20260419T060226
CREATED:20240422T233442Z
LAST-MODIFIED:20240827T151935Z
UID:10000737-1781200800-1781208000@yamproperties.com
SUMMARY:Star Wars Unlimited Weekly Play at Meeples & Beyond
DESCRIPTION:
URL:https://yamproperties.com/event/star-wars-unlimited-weekly-play-at-meeples-beyond/2026-06-11/
LOCATION:The Shops at Norterra\, 2450 West Happy Valley Road\, Phoenix\, AZ\, 85285\, United States
CATEGORIES:Games
ATTACH;FMTTYPE=image/png:https://yamproperties.com/wp-content/uploads/2024/04/StarWARS.png
END:VEVENT
BEGIN:VEVENT
DTSTART;TZID=America/Phoenix:20260618T180000
DTEND;TZID=America/Phoenix:20260618T200000
DTSTAMP:20260419T060226
CREATED:20240422T233442Z
LAST-MODIFIED:20240827T151935Z
UID:10000738-1781805600-1781812800@yamproperties.com
SUMMARY:Star Wars Unlimited Weekly Play at Meeples & Beyond
DESCRIPTION:
URL:https://yamproperties.com/event/star-wars-unlimited-weekly-play-at-meeples-beyond/2026-06-18/
LOCATION:The Shops at Norterra\, 2450 West Happy Valley Road\, Phoenix\, AZ\, 85285\, United States
CATEGORIES:Games
ATTACH;FMTTYPE=image/png:https://yamproperties.com/wp-content/uploads/2024/04/StarWARS.png
END:VEVENT
BEGIN:VEVENT
DTSTART;TZID=America/Phoenix:20260625T180000
DTEND;TZID=America/Phoenix:20260625T200000
DTSTAMP:20260419T060226
CREATED:20240422T233442Z
LAST-MODIFIED:20240827T151935Z
UID:10000739-1782410400-1782417600@yamproperties.com
SUMMARY:Star Wars Unlimited Weekly Play at Meeples & Beyond
DESCRIPTION:
URL:https://yamproperties.com/event/star-wars-unlimited-weekly-play-at-meeples-beyond/2026-06-25/
LOCATION:The Shops at Norterra\, 2450 West Happy Valley Road\, Phoenix\, AZ\, 85285\, United States
CATEGORIES:Games
ATTACH;FMTTYPE=image/png:https://yamproperties.com/wp-content/uploads/2024/04/StarWARS.png
END:VEVENT
BEGIN:VEVENT
DTSTART;TZID=America/Phoenix:20260702T180000
DTEND;TZID=America/Phoenix:20260702T200000
DTSTAMP:20260419T060226
CREATED:20240422T233442Z
LAST-MODIFIED:20240827T151935Z
UID:10000740-1783015200-1783022400@yamproperties.com
SUMMARY:Star Wars Unlimited Weekly Play at Meeples & Beyond
DESCRIPTION:
URL:https://yamproperties.com/event/star-wars-unlimited-weekly-play-at-meeples-beyond/2026-07-02/
LOCATION:The Shops at Norterra\, 2450 West Happy Valley Road\, Phoenix\, AZ\, 85285\, United States
CATEGORIES:Games
ATTACH;FMTTYPE=image/png:https://yamproperties.com/wp-content/uploads/2024/04/StarWARS.png
END:VEVENT
BEGIN:VEVENT
DTSTART;TZID=America/Phoenix:20260709T180000
DTEND;TZID=America/Phoenix:20260709T200000
DTSTAMP:20260419T060226
CREATED:20240422T233442Z
LAST-MODIFIED:20240827T151935Z
UID:10000741-1783620000-1783627200@yamproperties.com
SUMMARY:Star Wars Unlimited Weekly Play at Meeples & Beyond
DESCRIPTION:
URL:https://yamproperties.com/event/star-wars-unlimited-weekly-play-at-meeples-beyond/2026-07-09/
LOCATION:The Shops at Norterra\, 2450 West Happy Valley Road\, Phoenix\, AZ\, 85285\, United States
CATEGORIES:Games
ATTACH;FMTTYPE=image/png:https://yamproperties.com/wp-content/uploads/2024/04/StarWARS.png
END:VEVENT
BEGIN:VEVENT
DTSTART;TZID=America/Phoenix:20260716T180000
DTEND;TZID=America/Phoenix:20260716T200000
DTSTAMP:20260419T060226
CREATED:20240422T233442Z
LAST-MODIFIED:20240827T151935Z
UID:10000742-1784224800-1784232000@yamproperties.com
SUMMARY:Star Wars Unlimited Weekly Play at Meeples & Beyond
DESCRIPTION:
URL:https://yamproperties.com/event/star-wars-unlimited-weekly-play-at-meeples-beyond/2026-07-16/
LOCATION:The Shops at Norterra\, 2450 West Happy Valley Road\, Phoenix\, AZ\, 85285\, United States
CATEGORIES:Games
ATTACH;FMTTYPE=image/png:https://yamproperties.com/wp-content/uploads/2024/04/StarWARS.png
END:VEVENT
BEGIN:VEVENT
DTSTART;TZID=America/Phoenix:20260723T180000
DTEND;TZID=America/Phoenix:20260723T200000
DTSTAMP:20260419T060226
CREATED:20240422T233442Z
LAST-MODIFIED:20240827T151935Z
UID:10000743-1784829600-1784836800@yamproperties.com
SUMMARY:Star Wars Unlimited Weekly Play at Meeples & Beyond
DESCRIPTION:
URL:https://yamproperties.com/event/star-wars-unlimited-weekly-play-at-meeples-beyond/2026-07-23/
LOCATION:The Shops at Norterra\, 2450 West Happy Valley Road\, Phoenix\, AZ\, 85285\, United States
CATEGORIES:Games
ATTACH;FMTTYPE=image/png:https://yamproperties.com/wp-content/uploads/2024/04/StarWARS.png
END:VEVENT
BEGIN:VEVENT
DTSTART;TZID=America/Phoenix:20260730T180000
DTEND;TZID=America/Phoenix:20260730T200000
DTSTAMP:20260419T060226
CREATED:20240422T233442Z
LAST-MODIFIED:20240827T151935Z
UID:10000744-1785434400-1785441600@yamproperties.com
SUMMARY:Star Wars Unlimited Weekly Play at Meeples & Beyond
DESCRIPTION:
URL:https://yamproperties.com/event/star-wars-unlimited-weekly-play-at-meeples-beyond/2026-07-30/
LOCATION:The Shops at Norterra\, 2450 West Happy Valley Road\, Phoenix\, AZ\, 85285\, United States
CATEGORIES:Games
ATTACH;FMTTYPE=image/png:https://yamproperties.com/wp-content/uploads/2024/04/StarWARS.png
END:VEVENT
BEGIN:VEVENT
DTSTART;TZID=America/Phoenix:20260806T180000
DTEND;TZID=America/Phoenix:20260806T200000
DTSTAMP:20260419T060226
CREATED:20240422T233442Z
LAST-MODIFIED:20240827T151935Z
UID:10000745-1786039200-1786046400@yamproperties.com
SUMMARY:Star Wars Unlimited Weekly Play at Meeples & Beyond
DESCRIPTION:
URL:https://yamproperties.com/event/star-wars-unlimited-weekly-play-at-meeples-beyond/2026-08-06/
LOCATION:The Shops at Norterra\, 2450 West Happy Valley Road\, Phoenix\, AZ\, 85285\, United States
CATEGORIES:Games
ATTACH;FMTTYPE=image/png:https://yamproperties.com/wp-content/uploads/2024/04/StarWARS.png
END:VEVENT
BEGIN:VEVENT
DTSTART;TZID=America/Phoenix:20260813T180000
DTEND;TZID=America/Phoenix:20260813T200000
DTSTAMP:20260419T060226
CREATED:20240422T233442Z
LAST-MODIFIED:20240827T151935Z
UID:10000746-1786644000-1786651200@yamproperties.com
SUMMARY:Star Wars Unlimited Weekly Play at Meeples & Beyond
DESCRIPTION:
URL:https://yamproperties.com/event/star-wars-unlimited-weekly-play-at-meeples-beyond/2026-08-13/
LOCATION:The Shops at Norterra\, 2450 West Happy Valley Road\, Phoenix\, AZ\, 85285\, United States
CATEGORIES:Games
ATTACH;FMTTYPE=image/png:https://yamproperties.com/wp-content/uploads/2024/04/StarWARS.png
END:VEVENT
BEGIN:VEVENT
DTSTART;TZID=America/Phoenix:20260820T180000
DTEND;TZID=America/Phoenix:20260820T200000
DTSTAMP:20260419T060226
CREATED:20240422T233442Z
LAST-MODIFIED:20240827T151935Z
UID:10000747-1787248800-1787256000@yamproperties.com
SUMMARY:Star Wars Unlimited Weekly Play at Meeples & Beyond
DESCRIPTION:
URL:https://yamproperties.com/event/star-wars-unlimited-weekly-play-at-meeples-beyond/2026-08-20/
LOCATION:The Shops at Norterra\, 2450 West Happy Valley Road\, Phoenix\, AZ\, 85285\, United States
CATEGORIES:Games
ATTACH;FMTTYPE=image/png:https://yamproperties.com/wp-content/uploads/2024/04/StarWARS.png
END:VEVENT
BEGIN:VEVENT
DTSTART;TZID=America/Phoenix:20260827T180000
DTEND;TZID=America/Phoenix:20260827T200000
DTSTAMP:20260419T060226
CREATED:20240422T233442Z
LAST-MODIFIED:20240827T151935Z
UID:10000748-1787853600-1787860800@yamproperties.com
SUMMARY:Star Wars Unlimited Weekly Play at Meeples & Beyond
DESCRIPTION:
URL:https://yamproperties.com/event/star-wars-unlimited-weekly-play-at-meeples-beyond/2026-08-27/
LOCATION:The Shops at Norterra\, 2450 West Happy Valley Road\, Phoenix\, AZ\, 85285\, United States
CATEGORIES:Games
ATTACH;FMTTYPE=image/png:https://yamproperties.com/wp-content/uploads/2024/04/StarWARS.png
END:VEVENT
BEGIN:VEVENT
DTSTART;TZID=America/Phoenix:20260903T180000
DTEND;TZID=America/Phoenix:20260903T200000
DTSTAMP:20260419T060226
CREATED:20240422T233442Z
LAST-MODIFIED:20240827T151935Z
UID:10000749-1788458400-1788465600@yamproperties.com
SUMMARY:Star Wars Unlimited Weekly Play at Meeples & Beyond
DESCRIPTION:
URL:https://yamproperties.com/event/star-wars-unlimited-weekly-play-at-meeples-beyond/2026-09-03/
LOCATION:The Shops at Norterra\, 2450 West Happy Valley Road\, Phoenix\, AZ\, 85285\, United States
CATEGORIES:Games
ATTACH;FMTTYPE=image/png:https://yamproperties.com/wp-content/uploads/2024/04/StarWARS.png
END:VEVENT
BEGIN:VEVENT
DTSTART;TZID=America/Phoenix:20260910T180000
DTEND;TZID=America/Phoenix:20260910T200000
DTSTAMP:20260419T060226
CREATED:20240422T233442Z
LAST-MODIFIED:20240827T151935Z
UID:10000750-1789063200-1789070400@yamproperties.com
SUMMARY:Star Wars Unlimited Weekly Play at Meeples & Beyond
DESCRIPTION:
URL:https://yamproperties.com/event/star-wars-unlimited-weekly-play-at-meeples-beyond/2026-09-10/
LOCATION:The Shops at Norterra\, 2450 West Happy Valley Road\, Phoenix\, AZ\, 85285\, United States
CATEGORIES:Games
ATTACH;FMTTYPE=image/png:https://yamproperties.com/wp-content/uploads/2024/04/StarWARS.png
END:VEVENT
BEGIN:VEVENT
DTSTART;TZID=America/Phoenix:20260917T180000
DTEND;TZID=America/Phoenix:20260917T200000
DTSTAMP:20260419T060226
CREATED:20240422T233442Z
LAST-MODIFIED:20240827T151935Z
UID:10000751-1789668000-1789675200@yamproperties.com
SUMMARY:Star Wars Unlimited Weekly Play at Meeples & Beyond
DESCRIPTION:
URL:https://yamproperties.com/event/star-wars-unlimited-weekly-play-at-meeples-beyond/2026-09-17/
LOCATION:The Shops at Norterra\, 2450 West Happy Valley Road\, Phoenix\, AZ\, 85285\, United States
CATEGORIES:Games
ATTACH;FMTTYPE=image/png:https://yamproperties.com/wp-content/uploads/2024/04/StarWARS.png
END:VEVENT
BEGIN:VEVENT
DTSTART;TZID=America/Phoenix:20260924T180000
DTEND;TZID=America/Phoenix:20260924T200000
DTSTAMP:20260419T060226
CREATED:20240422T233442Z
LAST-MODIFIED:20240827T151935Z
UID:10000752-1790272800-1790280000@yamproperties.com
SUMMARY:Star Wars Unlimited Weekly Play at Meeples & Beyond
DESCRIPTION:
URL:https://yamproperties.com/event/star-wars-unlimited-weekly-play-at-meeples-beyond/2026-09-24/
LOCATION:The Shops at Norterra\, 2450 West Happy Valley Road\, Phoenix\, AZ\, 85285\, United States
CATEGORIES:Games
ATTACH;FMTTYPE=image/png:https://yamproperties.com/wp-content/uploads/2024/04/StarWARS.png
END:VEVENT
BEGIN:VEVENT
DTSTART;TZID=America/Phoenix:20261001T180000
DTEND;TZID=America/Phoenix:20261001T200000
DTSTAMP:20260419T060226
CREATED:20240422T233442Z
LAST-MODIFIED:20240827T151935Z
UID:10000753-1790877600-1790884800@yamproperties.com
SUMMARY:Star Wars Unlimited Weekly Play at Meeples & Beyond
DESCRIPTION:
URL:https://yamproperties.com/event/star-wars-unlimited-weekly-play-at-meeples-beyond/2026-10-01/
LOCATION:The Shops at Norterra\, 2450 West Happy Valley Road\, Phoenix\, AZ\, 85285\, United States
CATEGORIES:Games
ATTACH;FMTTYPE=image/png:https://yamproperties.com/wp-content/uploads/2024/04/StarWARS.png
END:VEVENT
BEGIN:VEVENT
DTSTART;TZID=America/Phoenix:20261008T180000
DTEND;TZID=America/Phoenix:20261008T200000
DTSTAMP:20260419T060226
CREATED:20240422T233442Z
LAST-MODIFIED:20240827T151935Z
UID:10000754-1791482400-1791489600@yamproperties.com
SUMMARY:Star Wars Unlimited Weekly Play at Meeples & Beyond
DESCRIPTION:
URL:https://yamproperties.com/event/star-wars-unlimited-weekly-play-at-meeples-beyond/2026-10-08/
LOCATION:The Shops at Norterra\, 2450 West Happy Valley Road\, Phoenix\, AZ\, 85285\, United States
CATEGORIES:Games
ATTACH;FMTTYPE=image/png:https://yamproperties.com/wp-content/uploads/2024/04/StarWARS.png
END:VEVENT
BEGIN:VEVENT
DTSTART;TZID=America/Phoenix:20261015T180000
DTEND;TZID=America/Phoenix:20261015T200000
DTSTAMP:20260419T060226
CREATED:20240422T233442Z
LAST-MODIFIED:20240827T151935Z
UID:10000755-1792087200-1792094400@yamproperties.com
SUMMARY:Star Wars Unlimited Weekly Play at Meeples & Beyond
DESCRIPTION:
URL:https://yamproperties.com/event/star-wars-unlimited-weekly-play-at-meeples-beyond/2026-10-15/
LOCATION:The Shops at Norterra\, 2450 West Happy Valley Road\, Phoenix\, AZ\, 85285\, United States
CATEGORIES:Games
ATTACH;FMTTYPE=image/png:https://yamproperties.com/wp-content/uploads/2024/04/StarWARS.png
END:VEVENT
BEGIN:VEVENT
DTSTART;TZID=America/Phoenix:20261022T180000
DTEND;TZID=America/Phoenix:20261022T200000
DTSTAMP:20260419T060226
CREATED:20240422T233442Z
LAST-MODIFIED:20240827T151935Z
UID:10000756-1792692000-1792699200@yamproperties.com
SUMMARY:Star Wars Unlimited Weekly Play at Meeples & Beyond
DESCRIPTION:
URL:https://yamproperties.com/event/star-wars-unlimited-weekly-play-at-meeples-beyond/2026-10-22/
LOCATION:The Shops at Norterra\, 2450 West Happy Valley Road\, Phoenix\, AZ\, 85285\, United States
CATEGORIES:Games
ATTACH;FMTTYPE=image/png:https://yamproperties.com/wp-content/uploads/2024/04/StarWARS.png
END:VEVENT
BEGIN:VEVENT
DTSTART;TZID=America/Phoenix:20261029T180000
DTEND;TZID=America/Phoenix:20261029T200000
DTSTAMP:20260419T060226
CREATED:20240422T233442Z
LAST-MODIFIED:20240827T151935Z
UID:10000757-1793296800-1793304000@yamproperties.com
SUMMARY:Star Wars Unlimited Weekly Play at Meeples & Beyond
DESCRIPTION:
URL:https://yamproperties.com/event/star-wars-unlimited-weekly-play-at-meeples-beyond/2026-10-29/
LOCATION:The Shops at Norterra\, 2450 West Happy Valley Road\, Phoenix\, AZ\, 85285\, United States
CATEGORIES:Games
ATTACH;FMTTYPE=image/png:https://yamproperties.com/wp-content/uploads/2024/04/StarWARS.png
END:VEVENT
BEGIN:VEVENT
DTSTART;TZID=America/Phoenix:20261105T180000
DTEND;TZID=America/Phoenix:20261105T200000
DTSTAMP:20260419T060226
CREATED:20240422T233442Z
LAST-MODIFIED:20240827T151935Z
UID:10000758-1793901600-1793908800@yamproperties.com
SUMMARY:Star Wars Unlimited Weekly Play at Meeples & Beyond
DESCRIPTION:
URL:https://yamproperties.com/event/star-wars-unlimited-weekly-play-at-meeples-beyond/2026-11-05/
LOCATION:The Shops at Norterra\, 2450 West Happy Valley Road\, Phoenix\, AZ\, 85285\, United States
CATEGORIES:Games
ATTACH;FMTTYPE=image/png:https://yamproperties.com/wp-content/uploads/2024/04/StarWARS.png
END:VEVENT
BEGIN:VEVENT
DTSTART;TZID=America/Phoenix:20261112T180000
DTEND;TZID=America/Phoenix:20261112T200000
DTSTAMP:20260419T060226
CREATED:20240422T233442Z
LAST-MODIFIED:20240827T151935Z
UID:10000759-1794506400-1794513600@yamproperties.com
SUMMARY:Star Wars Unlimited Weekly Play at Meeples & Beyond
DESCRIPTION:
URL:https://yamproperties.com/event/star-wars-unlimited-weekly-play-at-meeples-beyond/2026-11-12/
LOCATION:The Shops at Norterra\, 2450 West Happy Valley Road\, Phoenix\, AZ\, 85285\, United States
CATEGORIES:Games
ATTACH;FMTTYPE=image/png:https://yamproperties.com/wp-content/uploads/2024/04/StarWARS.png
END:VEVENT
END:VCALENDAR