BEGIN:VCALENDAR
VERSION:2.0
PRODID:-//YAM - ECPv6.15.6//NONSGML v1.0//EN
CALSCALE:GREGORIAN
METHOD:PUBLISH
X-WR-CALNAME:YAM
X-ORIGINAL-URL:https://yamproperties.com
X-WR-CALDESC:Events for YAM
REFRESH-INTERVAL;VALUE=DURATION:PT1H
X-Robots-Tag:noindex
X-PUBLISHED-TTL:PT1H
BEGIN:VTIMEZONE
TZID:America/Phoenix
BEGIN:STANDARD
TZOFFSETFROM:-0700
TZOFFSETTO:-0700
TZNAME:MST
DTSTART:20230101T000000
END:STANDARD
END:VTIMEZONE
BEGIN:VEVENT
DTSTART;TZID=America/Phoenix:20240707T080000
DTEND;TZID=America/Phoenix:20240707T170000
DTSTAMP:20260421T134440
CREATED:20240621T221431Z
LAST-MODIFIED:20240621T221431Z
UID:10001847-1720339200-1720371600@yamproperties.com
SUMMARY:Teen Sunday Social at Chicken N Pickle
DESCRIPTION:
URL:https://yamproperties.com/event/teen-sunday-social-at-chicken-n-pickle/2024-07-07/1/
LOCATION:Westgate Entertainment District\, 6770 N Sunrise Blvd\, Glendale\, AZ\, 85305\, United States
CATEGORIES:Family,Local
ATTACH;FMTTYPE=image/png:https://yamproperties.com/wp-content/uploads/2024/06/2-2.png
END:VEVENT
BEGIN:VEVENT
DTSTART;TZID=America/Phoenix:20240704T170000
DTEND;TZID=America/Phoenix:20240704T210000
DTSTAMP:20260421T134440
CREATED:20240624T221032Z
LAST-MODIFIED:20240624T221032Z
UID:10002122-1720112400-1720126800@yamproperties.com
SUMMARY:Firework Fest
DESCRIPTION:
URL:https://yamproperties.com/event/firework-fest/
LOCATION:Westgate Entertainment District\, 6770 N Sunrise Blvd\, Glendale\, AZ\, 85305\, United States
CATEGORIES:Family,Happy Hour,Local,Music
ATTACH;FMTTYPE=image/png:https://yamproperties.com/wp-content/uploads/2024/06/1-3.png
END:VEVENT
BEGIN:VEVENT
DTSTART;TZID=America/Phoenix:20240626T183000
DTEND;TZID=America/Phoenix:20240626T200000
DTSTAMP:20260421T134440
CREATED:20240529T195822Z
LAST-MODIFIED:20240529T195822Z
UID:10001831-1719426600-1719432000@yamproperties.com
SUMMARY:Westgate Wednesdays
DESCRIPTION:
URL:https://yamproperties.com/event/westgate-wednesdays/2024-06-26/
LOCATION:Westgate Entertainment District\, 6770 N Sunrise Blvd\, Glendale\, AZ\, 85305\, United States
CATEGORIES:Family,Local
ATTACH;FMTTYPE=image/png:https://yamproperties.com/wp-content/uploads/2024/05/2-1.png
END:VEVENT
BEGIN:VEVENT
DTSTART;TZID=America/Phoenix:20240625T180000
DTEND;TZID=America/Phoenix:20240625T200000
DTSTAMP:20260421T134440
CREATED:20240517T220200Z
LAST-MODIFIED:20240517T220200Z
UID:10001816-1719338400-1719345600@yamproperties.com
SUMMARY:10% Back Night Benefiting the Children's Treehouse Foundation at Chicken N Pickle
DESCRIPTION:
URL:https://yamproperties.com/event/10-back-night-benefiting-the-childrens-treehouse-foundation-at-chicken-n-pickle/
LOCATION:Westgate Entertainment District\, 6770 N Sunrise Blvd\, Glendale\, AZ\, 85305\, United States
CATEGORIES:Local
ATTACH;FMTTYPE=image/png:https://yamproperties.com/wp-content/uploads/2024/05/10-Treehouse.png
END:VEVENT
BEGIN:VEVENT
DTSTART;TZID=America/Phoenix:20240621T180000
DTEND;TZID=America/Phoenix:20240621T220000
DTSTAMP:20260421T134440
CREATED:20240319T204417Z
LAST-MODIFIED:20240624T221831Z
UID:10000358-1718992800-1719007200@yamproperties.com
SUMMARY:Artisan Alley
DESCRIPTION:
URL:https://yamproperties.com/event/artisan-alley/2024-06-21/
LOCATION:Westgate Entertainment District\, 6770 N Sunrise Blvd\, Glendale\, AZ\, 85305\, United States
CATEGORIES:Family,Local,Music
ATTACH;FMTTYPE=image/jpeg:https://yamproperties.com/wp-content/uploads/2024/03/0R3A2467.jpg
END:VEVENT
BEGIN:VEVENT
DTSTART;TZID=America/Phoenix:20240619T183000
DTEND;TZID=America/Phoenix:20240619T200000
DTSTAMP:20260421T134440
CREATED:20240529T195822Z
LAST-MODIFIED:20240529T195822Z
UID:10001830-1718821800-1718827200@yamproperties.com
SUMMARY:Westgate Wednesdays
DESCRIPTION:
URL:https://yamproperties.com/event/westgate-wednesdays/2024-06-19/
LOCATION:Westgate Entertainment District\, 6770 N Sunrise Blvd\, Glendale\, AZ\, 85305\, United States
CATEGORIES:Family,Local
ATTACH;FMTTYPE=image/png:https://yamproperties.com/wp-content/uploads/2024/05/2-1.png
END:VEVENT
BEGIN:VEVENT
DTSTART;TZID=America/Phoenix:20240614T110000
DTEND;TZID=America/Phoenix:20240614T130000
DTSTAMP:20260421T134440
CREATED:20240517T215805Z
LAST-MODIFIED:20240517T215805Z
UID:10001814-1718362800-1718370000@yamproperties.com
SUMMARY:Soldier’s Best Friend Flag Day Luncheon at Chicken N Pickle
DESCRIPTION:
URL:https://yamproperties.com/event/soldiers-best-friend-flag-day-luncheon-at-chicken-n-pickle/
LOCATION:Westgate Entertainment District\, 6770 N Sunrise Blvd\, Glendale\, AZ\, 85305\, United States
CATEGORIES:Local
ATTACH;FMTTYPE=image/png:https://yamproperties.com/wp-content/uploads/2024/05/Soldiers-Best-Friend-Glad-Day-Luncheon.png
END:VEVENT
BEGIN:VEVENT
DTSTART;TZID=America/Phoenix:20240612T183000
DTEND;TZID=America/Phoenix:20240612T200000
DTSTAMP:20260421T134440
CREATED:20240529T195822Z
LAST-MODIFIED:20240529T195822Z
UID:10001829-1718217000-1718222400@yamproperties.com
SUMMARY:Westgate Wednesdays
DESCRIPTION:
URL:https://yamproperties.com/event/westgate-wednesdays/2024-06-12/
LOCATION:Westgate Entertainment District\, 6770 N Sunrise Blvd\, Glendale\, AZ\, 85305\, United States
CATEGORIES:Family,Local
ATTACH;FMTTYPE=image/png:https://yamproperties.com/wp-content/uploads/2024/05/2-1.png
END:VEVENT
BEGIN:VEVENT
DTSTART;TZID=America/Phoenix:20240611T180000
DTEND;TZID=America/Phoenix:20240611T200000
DTSTAMP:20260421T134440
CREATED:20240517T215604Z
LAST-MODIFIED:20240517T215604Z
UID:10001813-1718128800-1718136000@yamproperties.com
SUMMARY:10% Back Night Benefiting Jazmine’s Journey at Chicken N Pickle
DESCRIPTION:
URL:https://yamproperties.com/event/10-back-night-benefiting-jazmines-journey-at-chicken-n-pickle/
LOCATION:Westgate Entertainment District\, 6770 N Sunrise Blvd\, Glendale\, AZ\, 85305\, United States
CATEGORIES:Local
ATTACH;FMTTYPE=image/png:https://yamproperties.com/wp-content/uploads/2024/05/10-Jazmines.png
END:VEVENT
BEGIN:VEVENT
DTSTART;TZID=America/Phoenix:20240605T183000
DTEND;TZID=America/Phoenix:20240605T200000
DTSTAMP:20260421T134440
CREATED:20240529T195822Z
LAST-MODIFIED:20240529T195822Z
UID:10001828-1717612200-1717617600@yamproperties.com
SUMMARY:Westgate Wednesdays
DESCRIPTION:
URL:https://yamproperties.com/event/westgate-wednesdays/2024-06-05/
LOCATION:Westgate Entertainment District\, 6770 N Sunrise Blvd\, Glendale\, AZ\, 85305\, United States
CATEGORIES:Family,Local
ATTACH;FMTTYPE=image/png:https://yamproperties.com/wp-content/uploads/2024/05/2-1.png
END:VEVENT
BEGIN:VEVENT
DTSTART;TZID=America/Phoenix:20240604T180000
DTEND;TZID=America/Phoenix:20240604T200000
DTSTAMP:20260421T134440
CREATED:20240517T215012Z
LAST-MODIFIED:20240517T215631Z
UID:10001808-1717524000-1717531200@yamproperties.com
SUMMARY:10% Back Night Benefitting Big Brothers & Big Sisters of Central Arizona at Chicken N Pickle
DESCRIPTION:
URL:https://yamproperties.com/event/10-back-night-benefitting-big-brothers-big-sisters-of-central-arizona-at-chicken-n-pickle/
LOCATION:Westgate Entertainment District\, 6770 N Sunrise Blvd\, Glendale\, AZ\, 85305\, United States
CATEGORIES:Local
ATTACH;FMTTYPE=image/png:https://yamproperties.com/wp-content/uploads/2024/05/10-Big-Brothers-Sisters.png
END:VEVENT
BEGIN:VEVENT
DTSTART;TZID=America/Phoenix:20240524T180000
DTEND;TZID=America/Phoenix:20240524T220000
DTSTAMP:20260421T134440
CREATED:20240319T204417Z
LAST-MODIFIED:20240624T221831Z
UID:10000357-1716573600-1716588000@yamproperties.com
SUMMARY:Artisan Alley
DESCRIPTION:
URL:https://yamproperties.com/event/artisan-alley/2024-05-24/
LOCATION:Westgate Entertainment District\, 6770 N Sunrise Blvd\, Glendale\, AZ\, 85305\, United States
CATEGORIES:Family,Local,Music
ATTACH;FMTTYPE=image/jpeg:https://yamproperties.com/wp-content/uploads/2024/03/0R3A2467.jpg
END:VEVENT
BEGIN:VEVENT
DTSTART;TZID=America/Phoenix:20240503T180000
DTEND;TZID=America/Phoenix:20240503T193000
DTSTAMP:20260421T134440
CREATED:20240422T230955Z
LAST-MODIFIED:20240429T194738Z
UID:10000364-1714759200-1714764600@yamproperties.com
SUMMARY:Poppies Flower Shop Mother's Day Floral Design Class
DESCRIPTION:
URL:https://yamproperties.com/event/poppies-flower-shop-mothers-day-floral-design-class/
LOCATION:The Shops at Norterra\, 2450 West Happy Valley Road\, Phoenix\, AZ\, 85285\, United States
CATEGORIES:Classes,Family,Local
ATTACH;FMTTYPE=image/png:https://yamproperties.com/wp-content/uploads/2024/04/MothersDayFlorals.png
END:VEVENT
BEGIN:VEVENT
DTSTART;TZID=America/Phoenix:20240422T160000
DTEND;TZID=America/Phoenix:20240422T160000
DTSTAMP:20260421T134440
CREATED:20240319T204417Z
LAST-MODIFIED:20240624T221831Z
UID:10000081-1713801600-1713801600@yamproperties.com
SUMMARY:Artisan Alley
DESCRIPTION:
URL:https://yamproperties.com/event/artisan-alley/2024-04-22/
LOCATION:Westgate Entertainment District\, 6770 N Sunrise Blvd\, Glendale\, AZ\, 85305\, United States
CATEGORIES:Family,Local,Music
ATTACH;FMTTYPE=image/jpeg:https://yamproperties.com/wp-content/uploads/2024/03/0R3A2467.jpg
END:VEVENT
BEGIN:VEVENT
DTSTART;TZID=America/Phoenix:20240419T180000
DTEND;TZID=America/Phoenix:20240419T220000
DTSTAMP:20260421T134440
CREATED:20240319T204417Z
LAST-MODIFIED:20240624T221831Z
UID:10000080-1713549600-1713564000@yamproperties.com
SUMMARY:Artisan Alley
DESCRIPTION:
URL:https://yamproperties.com/event/artisan-alley/2024-04-19/
LOCATION:Westgate Entertainment District\, 6770 N Sunrise Blvd\, Glendale\, AZ\, 85305\, United States
CATEGORIES:Family,Local,Music
ATTACH;FMTTYPE=image/jpeg:https://yamproperties.com/wp-content/uploads/2024/03/0R3A2467.jpg
END:VEVENT
END:VCALENDAR