BEGIN:VCALENDAR
VERSION:2.0
PRODID:-//YAM - ECPv6.15.6//NONSGML v1.0//EN
CALSCALE:GREGORIAN
METHOD:PUBLISH
X-ORIGINAL-URL:https://yamproperties.com
X-WR-CALDESC:Events for YAM
REFRESH-INTERVAL;VALUE=DURATION:PT1H
X-Robots-Tag:noindex
X-PUBLISHED-TTL:PT1H
BEGIN:VTIMEZONE
TZID:America/Phoenix
BEGIN:STANDARD
TZOFFSETFROM:-0700
TZOFFSETTO:-0700
TZNAME:MST
DTSTART:20230101T000000
END:STANDARD
END:VTIMEZONE
BEGIN:VEVENT
DTSTART;TZID=America/Phoenix:20240929T130500
DTEND;TZID=America/Phoenix:20240929T130500
DTSTAMP:20260421T074231
CREATED:20240827T154439Z
LAST-MODIFIED:20240827T154439Z
UID:10002663-1727615100-1727615100@yamproperties.com
SUMMARY:Game Day. Get Here.
DESCRIPTION:
URL:https://yamproperties.com/event/game-day-get-here/2024-09-29/
LOCATION:Westgate Entertainment District\, 6770 N Sunrise Blvd\, Glendale\, AZ\, 85305\, United States
CATEGORIES:Family,Local,Sports
ATTACH;FMTTYPE=image/png:https://yamproperties.com/wp-content/uploads/2024/08/4.png
END:VEVENT
BEGIN:VEVENT
DTSTART;TZID=America/Phoenix:20240929T100000
DTEND;TZID=America/Phoenix:20240929T100000
DTSTAMP:20260421T074231
CREATED:20240827T151658Z
LAST-MODIFIED:20240827T151658Z
UID:10002565-1727604000-1727604000@yamproperties.com
SUMMARY:PHNX Tailgate at Chicken N Pickle
DESCRIPTION:
URL:https://yamproperties.com/event/phnx-tailgate-at-chicken-n-pickle/2024-09-29/
LOCATION:Westgate Entertainment District\, 6770 N Sunrise Blvd\, Glendale\, AZ\, 85305\, United States
CATEGORIES:Local,Sports
ATTACH;FMTTYPE=image/png:https://yamproperties.com/wp-content/uploads/2024/08/Tailgate.png
END:VEVENT
BEGIN:VEVENT
DTSTART;TZID=America/Phoenix:20240925T170000
DTEND;TZID=America/Phoenix:20240925T210000
DTSTAMP:20260421T074231
CREATED:20240827T165239Z
LAST-MODIFIED:20240827T165239Z
UID:10002752-1727283600-1727298000@yamproperties.com
SUMMARY:Hot Rod Night
DESCRIPTION:
URL:https://yamproperties.com/event/hot-rod-night-2/2024-09-25/
LOCATION:Westgate Entertainment District\, 6770 N Sunrise Blvd\, Glendale\, AZ\, 85305\, United States
CATEGORIES:Cars,Family,Local
ATTACH;FMTTYPE=image/png:https://yamproperties.com/wp-content/uploads/2024/08/5-1.png
END:VEVENT
BEGIN:VEVENT
DTSTART;TZID=America/Phoenix:20240922T152500
DTEND;TZID=America/Phoenix:20240922T152500
DTSTAMP:20260421T074231
CREATED:20240827T160122Z
LAST-MODIFIED:20240827T160122Z
UID:10002681-1727018700-1727018700@yamproperties.com
SUMMARY:Football Watch Party Chicken N Pickle
DESCRIPTION:
URL:https://yamproperties.com/event/football-watch-party-chicken-n-pickle/2024-09-22/
LOCATION:Westgate Entertainment District\, 6770 N Sunrise Blvd\, Glendale\, AZ\, 85305\, United States
CATEGORIES:Local,Sports
ATTACH;FMTTYPE=image/png:https://yamproperties.com/wp-content/uploads/2024/08/CNP-Watch-Party.png
END:VEVENT
BEGIN:VEVENT
DTSTART;TZID=America/Phoenix:20240922T132500
DTEND;TZID=America/Phoenix:20240922T132500
DTSTAMP:20260421T074231
CREATED:20240827T154439Z
LAST-MODIFIED:20240827T154439Z
UID:10002662-1727011500-1727011500@yamproperties.com
SUMMARY:Game Day. Get Here.
DESCRIPTION:
URL:https://yamproperties.com/event/game-day-get-here/2024-09-22/
LOCATION:Westgate Entertainment District\, 6770 N Sunrise Blvd\, Glendale\, AZ\, 85305\, United States
CATEGORIES:Family,Local,Sports
ATTACH;FMTTYPE=image/png:https://yamproperties.com/wp-content/uploads/2024/08/4.png
END:VEVENT
BEGIN:VEVENT
DTSTART;TZID=America/Phoenix:20240922T100000
DTEND;TZID=America/Phoenix:20240922T100000
DTSTAMP:20260421T074231
CREATED:20240827T151658Z
LAST-MODIFIED:20240827T151658Z
UID:10002564-1726999200-1726999200@yamproperties.com
SUMMARY:PHNX Tailgate at Chicken N Pickle
DESCRIPTION:
URL:https://yamproperties.com/event/phnx-tailgate-at-chicken-n-pickle/2024-09-22/
LOCATION:Westgate Entertainment District\, 6770 N Sunrise Blvd\, Glendale\, AZ\, 85305\, United States
CATEGORIES:Local,Sports
ATTACH;FMTTYPE=image/png:https://yamproperties.com/wp-content/uploads/2024/08/Tailgate.png
END:VEVENT
BEGIN:VEVENT
DTSTART;TZID=America/Phoenix:20240918T170000
DTEND;TZID=America/Phoenix:20240918T210000
DTSTAMP:20260421T074231
CREATED:20240827T165239Z
LAST-MODIFIED:20240827T165239Z
UID:10002751-1726678800-1726693200@yamproperties.com
SUMMARY:Hot Rod Night
DESCRIPTION:
URL:https://yamproperties.com/event/hot-rod-night-2/2024-09-18/
LOCATION:Westgate Entertainment District\, 6770 N Sunrise Blvd\, Glendale\, AZ\, 85305\, United States
CATEGORIES:Cars,Family,Local
ATTACH;FMTTYPE=image/png:https://yamproperties.com/wp-content/uploads/2024/08/5-1.png
END:VEVENT
BEGIN:VEVENT
DTSTART;TZID=America/Phoenix:20240915T150500
DTEND;TZID=America/Phoenix:20240915T150500
DTSTAMP:20260421T074231
CREATED:20240827T160122Z
LAST-MODIFIED:20240827T160122Z
UID:10002680-1726412700-1726412700@yamproperties.com
SUMMARY:Football Watch Party Chicken N Pickle
DESCRIPTION:
URL:https://yamproperties.com/event/football-watch-party-chicken-n-pickle/2024-09-15/
LOCATION:Westgate Entertainment District\, 6770 N Sunrise Blvd\, Glendale\, AZ\, 85305\, United States
CATEGORIES:Local,Sports
ATTACH;FMTTYPE=image/png:https://yamproperties.com/wp-content/uploads/2024/08/CNP-Watch-Party.png
END:VEVENT
BEGIN:VEVENT
DTSTART;TZID=America/Phoenix:20240915T130500
DTEND;TZID=America/Phoenix:20240915T130500
DTSTAMP:20260421T074231
CREATED:20240827T154439Z
LAST-MODIFIED:20240827T154439Z
UID:10002661-1726405500-1726405500@yamproperties.com
SUMMARY:Game Day. Get Here.
DESCRIPTION:
URL:https://yamproperties.com/event/game-day-get-here/2024-09-15/
LOCATION:Westgate Entertainment District\, 6770 N Sunrise Blvd\, Glendale\, AZ\, 85305\, United States
CATEGORIES:Family,Local,Sports
ATTACH;FMTTYPE=image/png:https://yamproperties.com/wp-content/uploads/2024/08/4.png
END:VEVENT
BEGIN:VEVENT
DTSTART;TZID=America/Phoenix:20240915T100000
DTEND;TZID=America/Phoenix:20240915T100000
DTSTAMP:20260421T074231
CREATED:20240827T151658Z
LAST-MODIFIED:20240827T151658Z
UID:10002563-1726394400-1726394400@yamproperties.com
SUMMARY:PHNX Tailgate at Chicken N Pickle
DESCRIPTION:
URL:https://yamproperties.com/event/phnx-tailgate-at-chicken-n-pickle/2024-09-15/
LOCATION:Westgate Entertainment District\, 6770 N Sunrise Blvd\, Glendale\, AZ\, 85305\, United States
CATEGORIES:Local,Sports
ATTACH;FMTTYPE=image/png:https://yamproperties.com/wp-content/uploads/2024/08/Tailgate.png
END:VEVENT
BEGIN:VEVENT
DTSTART;TZID=America/Phoenix:20240909T180000
DTEND;TZID=America/Phoenix:20240909T200000
DTSTAMP:20260421T074231
CREATED:20240827T144839Z
LAST-MODIFIED:20240827T144839Z
UID:10002562-1725904800-1725912000@yamproperties.com
SUMMARY:Adaptive Pickleball Practice
DESCRIPTION:
URL:https://yamproperties.com/event/adaptive-pickleball-practice-2/
LOCATION:Westgate Entertainment District\, 6770 N Sunrise Blvd\, Glendale\, AZ\, 85305\, United States
CATEGORIES:Local,Sports
ATTACH;FMTTYPE=image/png:https://yamproperties.com/wp-content/uploads/2024/06/3-2.png
END:VEVENT
BEGIN:VEVENT
DTSTART;TZID=America/Phoenix:20240908T120000
DTEND;TZID=America/Phoenix:20240908T120000
DTSTAMP:20260421T074231
CREATED:20240827T160122Z
LAST-MODIFIED:20240827T160122Z
UID:10002677-1725796800-1725796800@yamproperties.com
SUMMARY:Football Watch Party Chicken N Pickle
DESCRIPTION:
URL:https://yamproperties.com/event/football-watch-party-chicken-n-pickle/2024-09-08/
LOCATION:Westgate Entertainment District\, 6770 N Sunrise Blvd\, Glendale\, AZ\, 85305\, United States
CATEGORIES:Local,Sports
ATTACH;FMTTYPE=image/png:https://yamproperties.com/wp-content/uploads/2024/08/CNP-Watch-Party.png
END:VEVENT
BEGIN:VEVENT
DTSTART;TZID=America/Phoenix:20240730T180000
DTEND;TZID=America/Phoenix:20240730T200000
DTSTAMP:20260421T074231
CREATED:20240621T222928Z
LAST-MODIFIED:20240621T222928Z
UID:10001854-1722362400-1722369600@yamproperties.com
SUMMARY:10% Giveback Benefiting Arizonans for Children
DESCRIPTION:
URL:https://yamproperties.com/event/10-giveback-benefiting-arizonans-for-children/
LOCATION:Westgate Entertainment District\, 6770 N Sunrise Blvd\, Glendale\, AZ\, 85305\, United States
CATEGORIES:Local
ATTACH;FMTTYPE=image/png:https://yamproperties.com/wp-content/uploads/2024/06/6.png
END:VEVENT
BEGIN:VEVENT
DTSTART;TZID=America/Phoenix:20240728T200000
DTEND;TZID=America/Phoenix:20240728T220000
DTSTAMP:20260421T074231
CREATED:20240621T221431Z
LAST-MODIFIED:20240621T221431Z
UID:10001850-1722196800-1722204000@yamproperties.com
SUMMARY:Teen Sunday Social at Chicken N Pickle
DESCRIPTION:
URL:https://yamproperties.com/event/teen-sunday-social-at-chicken-n-pickle/2024-07-28/
LOCATION:Westgate Entertainment District\, 6770 N Sunrise Blvd\, Glendale\, AZ\, 85305\, United States
CATEGORIES:Family,Local
ATTACH;FMTTYPE=image/png:https://yamproperties.com/wp-content/uploads/2024/06/2-2.png
END:VEVENT
BEGIN:VEVENT
DTSTART;TZID=America/Phoenix:20240726T180000
DTEND;TZID=America/Phoenix:20240726T220000
DTSTAMP:20260421T074231
CREATED:20240319T204417Z
LAST-MODIFIED:20240624T221831Z
UID:10000359-1722016800-1722031200@yamproperties.com
SUMMARY:Artisan Alley
DESCRIPTION:
URL:https://yamproperties.com/event/artisan-alley/2024-07-26/
LOCATION:Westgate Entertainment District\, 6770 N Sunrise Blvd\, Glendale\, AZ\, 85305\, United States
CATEGORIES:Family,Local,Music
ATTACH;FMTTYPE=image/jpeg:https://yamproperties.com/wp-content/uploads/2024/03/0R3A2467.jpg
END:VEVENT
BEGIN:VEVENT
DTSTART;TZID=America/Phoenix:20240725T180000
DTEND;TZID=America/Phoenix:20240725T200000
DTSTAMP:20260421T074231
CREATED:20240621T222727Z
LAST-MODIFIED:20240621T222727Z
UID:10001853-1721930400-1721937600@yamproperties.com
SUMMARY:10% Giveback Benefiting Arizona Association of Community Managers
DESCRIPTION:
URL:https://yamproperties.com/event/10-giveback-benefiting-arizona-association-of-community-managers/
LOCATION:Westgate Entertainment District\, 6770 N Sunrise Blvd\, Glendale\, AZ\, 85305\, United States
CATEGORIES:Local
ATTACH;FMTTYPE=image/png:https://yamproperties.com/wp-content/uploads/2024/06/5.png
END:VEVENT
BEGIN:VEVENT
DTSTART;TZID=America/Phoenix:20240723T180000
DTEND;TZID=America/Phoenix:20240723T200000
DTSTAMP:20260421T074231
CREATED:20240621T222459Z
LAST-MODIFIED:20240621T222459Z
UID:10001852-1721757600-1721764800@yamproperties.com
SUMMARY:10% Giveback Benefiting Village of the Valley
DESCRIPTION:
URL:https://yamproperties.com/event/10-giveback-benefiting-village-of-the-valley/
LOCATION:Westgate Entertainment District\, 6770 N Sunrise Blvd\, Glendale\, AZ\, 85305\, United States
CATEGORIES:Local
ATTACH;FMTTYPE=image/png:https://yamproperties.com/wp-content/uploads/2024/06/4.png
END:VEVENT
BEGIN:VEVENT
DTSTART;TZID=America/Phoenix:20240721T200000
DTEND;TZID=America/Phoenix:20240721T220000
DTSTAMP:20260421T074231
CREATED:20240621T221431Z
LAST-MODIFIED:20240621T221431Z
UID:10001849-1721592000-1721599200@yamproperties.com
SUMMARY:Teen Sunday Social at Chicken N Pickle
DESCRIPTION:
URL:https://yamproperties.com/event/teen-sunday-social-at-chicken-n-pickle/2024-07-21/
LOCATION:Westgate Entertainment District\, 6770 N Sunrise Blvd\, Glendale\, AZ\, 85305\, United States
CATEGORIES:Family,Local
ATTACH;FMTTYPE=image/png:https://yamproperties.com/wp-content/uploads/2024/06/2-2.png
END:VEVENT
BEGIN:VEVENT
DTSTART;TZID=America/Phoenix:20240717T183000
DTEND;TZID=America/Phoenix:20240717T200000
DTSTAMP:20260421T074231
CREATED:20240529T195822Z
LAST-MODIFIED:20240529T195822Z
UID:10001833-1721241000-1721246400@yamproperties.com
SUMMARY:Westgate Wednesdays
DESCRIPTION:
URL:https://yamproperties.com/event/westgate-wednesdays/2024-07-17/
LOCATION:Westgate Entertainment District\, 6770 N Sunrise Blvd\, Glendale\, AZ\, 85305\, United States
CATEGORIES:Family,Local
ATTACH;FMTTYPE=image/png:https://yamproperties.com/wp-content/uploads/2024/05/2-1.png
END:VEVENT
BEGIN:VEVENT
DTSTART;TZID=America/Phoenix:20240714T200000
DTEND;TZID=America/Phoenix:20240714T220000
DTSTAMP:20260421T074231
CREATED:20240621T221431Z
LAST-MODIFIED:20240621T221431Z
UID:10001848-1720987200-1720994400@yamproperties.com
SUMMARY:Teen Sunday Social at Chicken N Pickle
DESCRIPTION:
URL:https://yamproperties.com/event/teen-sunday-social-at-chicken-n-pickle/2024-07-14/
LOCATION:Westgate Entertainment District\, 6770 N Sunrise Blvd\, Glendale\, AZ\, 85305\, United States
CATEGORIES:Family,Local
ATTACH;FMTTYPE=image/png:https://yamproperties.com/wp-content/uploads/2024/06/2-2.png
END:VEVENT
BEGIN:VEVENT
DTSTART;TZID=America/Phoenix:20240713T090000
DTEND;TZID=America/Phoenix:20240713T110000
DTSTAMP:20260421T074231
CREATED:20240624T222036Z
LAST-MODIFIED:20240624T222036Z
UID:10002126-1720861200-1720868400@yamproperties.com
SUMMARY:Cause for Paws
DESCRIPTION:
URL:https://yamproperties.com/event/cause-for-paws/
LOCATION:Westgate Entertainment District\, 6770 N Sunrise Blvd\, Glendale\, AZ\, 85305\, United States
CATEGORIES:Family,Local
ATTACH;FMTTYPE=image/jpeg:https://yamproperties.com/wp-content/uploads/2024/06/WG-Cause-for-Paws.jpg
END:VEVENT
BEGIN:VEVENT
DTSTART;TZID=America/Phoenix:20240710T183000
DTEND;TZID=America/Phoenix:20240710T200000
DTSTAMP:20260421T074231
CREATED:20240529T195822Z
LAST-MODIFIED:20240529T195822Z
UID:10001832-1720636200-1720641600@yamproperties.com
SUMMARY:Westgate Wednesdays
DESCRIPTION:
URL:https://yamproperties.com/event/westgate-wednesdays/2024-07-10/
LOCATION:Westgate Entertainment District\, 6770 N Sunrise Blvd\, Glendale\, AZ\, 85305\, United States
CATEGORIES:Family,Local
ATTACH;FMTTYPE=image/png:https://yamproperties.com/wp-content/uploads/2024/05/2-1.png
END:VEVENT
BEGIN:VEVENT
DTSTART;TZID=America/Phoenix:20240708T180000
DTEND;TZID=America/Phoenix:20240708T200000
DTSTAMP:20260421T074231
CREATED:20240621T222108Z
LAST-MODIFIED:20240621T222108Z
UID:10001851-1720461600-1720468800@yamproperties.com
SUMMARY:Adaptive Pickleball Practice
DESCRIPTION:
URL:https://yamproperties.com/event/adaptive-pickleball-practice/
LOCATION:Westgate Entertainment District\, 6770 N Sunrise Blvd\, Glendale\, AZ\, 85305\, United States
CATEGORIES:Local,Sports
ATTACH;FMTTYPE=image/png:https://yamproperties.com/wp-content/uploads/2024/06/3-2.png
END:VEVENT
BEGIN:VEVENT
DTSTART;TZID=America/Phoenix:20240707T200000
DTEND;TZID=America/Phoenix:20240707T220000
DTSTAMP:20260421T074231
CREATED:20240621T221431Z
LAST-MODIFIED:20240621T221431Z
UID:10001846-1720382400-1720389600@yamproperties.com
SUMMARY:Teen Sunday Social at Chicken N Pickle
DESCRIPTION:
URL:https://yamproperties.com/event/teen-sunday-social-at-chicken-n-pickle/2024-07-07/2/
LOCATION:Westgate Entertainment District\, 6770 N Sunrise Blvd\, Glendale\, AZ\, 85305\, United States
CATEGORIES:Family,Local
ATTACH;FMTTYPE=image/png:https://yamproperties.com/wp-content/uploads/2024/06/2-2.png
END:VEVENT
BEGIN:VEVENT
DTSTART;TZID=America/Phoenix:20240707T080000
DTEND;TZID=America/Phoenix:20240707T170000
DTSTAMP:20260421T074231
CREATED:20240621T221431Z
LAST-MODIFIED:20240621T221431Z
UID:10001847-1720339200-1720371600@yamproperties.com
SUMMARY:Teen Sunday Social at Chicken N Pickle
DESCRIPTION:
URL:https://yamproperties.com/event/teen-sunday-social-at-chicken-n-pickle/2024-07-07/1/
LOCATION:Westgate Entertainment District\, 6770 N Sunrise Blvd\, Glendale\, AZ\, 85305\, United States
CATEGORIES:Family,Local
ATTACH;FMTTYPE=image/png:https://yamproperties.com/wp-content/uploads/2024/06/2-2.png
END:VEVENT
BEGIN:VEVENT
DTSTART;TZID=America/Phoenix:20240704T170000
DTEND;TZID=America/Phoenix:20240704T210000
DTSTAMP:20260421T074231
CREATED:20240624T221032Z
LAST-MODIFIED:20240624T221032Z
UID:10002122-1720112400-1720126800@yamproperties.com
SUMMARY:Firework Fest
DESCRIPTION:
URL:https://yamproperties.com/event/firework-fest/
LOCATION:Westgate Entertainment District\, 6770 N Sunrise Blvd\, Glendale\, AZ\, 85305\, United States
CATEGORIES:Family,Happy Hour,Local,Music
ATTACH;FMTTYPE=image/png:https://yamproperties.com/wp-content/uploads/2024/06/1-3.png
END:VEVENT
BEGIN:VEVENT
DTSTART;TZID=America/Phoenix:20240626T183000
DTEND;TZID=America/Phoenix:20240626T200000
DTSTAMP:20260421T074231
CREATED:20240529T195822Z
LAST-MODIFIED:20240529T195822Z
UID:10001831-1719426600-1719432000@yamproperties.com
SUMMARY:Westgate Wednesdays
DESCRIPTION:
URL:https://yamproperties.com/event/westgate-wednesdays/2024-06-26/
LOCATION:Westgate Entertainment District\, 6770 N Sunrise Blvd\, Glendale\, AZ\, 85305\, United States
CATEGORIES:Family,Local
ATTACH;FMTTYPE=image/png:https://yamproperties.com/wp-content/uploads/2024/05/2-1.png
END:VEVENT
BEGIN:VEVENT
DTSTART;TZID=America/Phoenix:20240625T180000
DTEND;TZID=America/Phoenix:20240625T200000
DTSTAMP:20260421T074231
CREATED:20240517T220200Z
LAST-MODIFIED:20240517T220200Z
UID:10001816-1719338400-1719345600@yamproperties.com
SUMMARY:10% Back Night Benefiting the Children's Treehouse Foundation at Chicken N Pickle
DESCRIPTION:
URL:https://yamproperties.com/event/10-back-night-benefiting-the-childrens-treehouse-foundation-at-chicken-n-pickle/
LOCATION:Westgate Entertainment District\, 6770 N Sunrise Blvd\, Glendale\, AZ\, 85305\, United States
CATEGORIES:Local
ATTACH;FMTTYPE=image/png:https://yamproperties.com/wp-content/uploads/2024/05/10-Treehouse.png
END:VEVENT
BEGIN:VEVENT
DTSTART;TZID=America/Phoenix:20240621T180000
DTEND;TZID=America/Phoenix:20240621T220000
DTSTAMP:20260421T074231
CREATED:20240319T204417Z
LAST-MODIFIED:20240624T221831Z
UID:10000358-1718992800-1719007200@yamproperties.com
SUMMARY:Artisan Alley
DESCRIPTION:
URL:https://yamproperties.com/event/artisan-alley/2024-06-21/
LOCATION:Westgate Entertainment District\, 6770 N Sunrise Blvd\, Glendale\, AZ\, 85305\, United States
CATEGORIES:Family,Local,Music
ATTACH;FMTTYPE=image/jpeg:https://yamproperties.com/wp-content/uploads/2024/03/0R3A2467.jpg
END:VEVENT
BEGIN:VEVENT
DTSTART;TZID=America/Phoenix:20240619T183000
DTEND;TZID=America/Phoenix:20240619T200000
DTSTAMP:20260421T074231
CREATED:20240529T195822Z
LAST-MODIFIED:20240529T195822Z
UID:10001830-1718821800-1718827200@yamproperties.com
SUMMARY:Westgate Wednesdays
DESCRIPTION:
URL:https://yamproperties.com/event/westgate-wednesdays/2024-06-19/
LOCATION:Westgate Entertainment District\, 6770 N Sunrise Blvd\, Glendale\, AZ\, 85305\, United States
CATEGORIES:Family,Local
ATTACH;FMTTYPE=image/png:https://yamproperties.com/wp-content/uploads/2024/05/2-1.png
END:VEVENT
END:VCALENDAR